BEGIN:VCALENDAR
VERSION:2.0
PRODID:-//North Macon Presbyterian Church - ECPv6.13.2.1//NONSGML v1.0//EN
CALSCALE:GREGORIAN
METHOD:PUBLISH
X-ORIGINAL-URL:https://www.nmpc.net
X-WR-CALDESC:Events for North Macon Presbyterian Church
REFRESH-INTERVAL;VALUE=DURATION:PT1H
X-Robots-Tag:noindex
X-PUBLISHED-TTL:PT1H
BEGIN:VTIMEZONE
TZID:America/New_York
BEGIN:DAYLIGHT
TZOFFSETFROM:-0500
TZOFFSETTO:-0400
TZNAME:EDT
DTSTART:20250309T070000
END:DAYLIGHT
BEGIN:STANDARD
TZOFFSETFROM:-0400
TZOFFSETTO:-0500
TZNAME:EST
DTSTART:20251102T060000
END:STANDARD
END:VTIMEZONE
BEGIN:VEVENT
DTSTART;TZID=America/New_York:20251105T190000
DTEND;TZID=America/New_York:20251105T200000
DTSTAMP:20260423T125924
CREATED:20251031T163813Z
LAST-MODIFIED:20251031T163912Z
UID:3650-1762369200-1762372800@www.nmpc.net
SUMMARY:Friends Giving
DESCRIPTION:Joint service for Macon Youth \n 
URL:https://www.nmpc.net/event/friends-giving/
ATTACH;FMTTYPE=image/jpeg:https://www.nmpc.net/wp-content/uploads/2025/10/youth-announcements.jpg
END:VEVENT
BEGIN:VEVENT
DTSTART;TZID=America/New_York:20251026T170000
DTEND;TZID=America/New_York:20251026T190000
DTSTAMP:20260423T125924
CREATED:20250911T140340Z
LAST-MODIFIED:20250912T154529Z
UID:3622-1761498000-1761505200@www.nmpc.net
SUMMARY:Reformation Celebration
DESCRIPTION:Click here to register!
URL:https://www.nmpc.net/event/reformation-celebration/
LOCATION:North Macon Presbyterian Church\, 5707 Rivoli Dr.\, Macon\, GA\, 31210\, United States
ATTACH;FMTTYPE=image/jpeg:https://www.nmpc.net/wp-content/uploads/2025/09/Reformation-Celebration-2025-slide.jpg
END:VEVENT
BEGIN:VEVENT
DTSTART;TZID=America/New_York:20251025T180000
DTEND;TZID=America/New_York:20251025T203000
DTSTAMP:20260423T125924
CREATED:20250826T131528Z
LAST-MODIFIED:20250826T131551Z
UID:3600-1761415200-1761424200@www.nmpc.net
SUMMARY:Men's Chili Cook-Off
DESCRIPTION:
URL:https://www.nmpc.net/event/mens-chili-cook-off/
ATTACH;FMTTYPE=image/jpeg:https://www.nmpc.net/wp-content/uploads/2025/08/chili-cookoff.jpg
END:VEVENT
BEGIN:VEVENT
DTSTART;TZID=America/New_York:20251010T100000
DTEND;TZID=America/New_York:20251011T170000
DTSTAMP:20260423T125924
CREATED:20250820T195858Z
LAST-MODIFIED:20251008T222621Z
UID:3587-1760090400-1760202000@www.nmpc.net
SUMMARY:Youth Fall Retreat
DESCRIPTION:
URL:https://www.nmpc.net/event/youth-fall-retreat/
ATTACH;FMTTYPE=image/jpeg:https://www.nmpc.net/wp-content/uploads/2025/08/youth-fall-announcements-1.jpg
END:VEVENT
BEGIN:VEVENT
DTSTART;TZID=America/New_York:20251004T100000
DTEND;TZID=America/New_York:20251004T120000
DTSTAMP:20260423T125924
CREATED:20250818T203822Z
LAST-MODIFIED:20250818T203850Z
UID:3573-1759572000-1759579200@www.nmpc.net
SUMMARY:Ladies Fall Event
DESCRIPTION:Consider the Lilies Paint Party
URL:https://www.nmpc.net/event/ladies-fall-event/
ATTACH;FMTTYPE=image/jpeg:https://www.nmpc.net/wp-content/uploads/2025/08/Ladies-social-slides.jpg
END:VEVENT
BEGIN:VEVENT
DTSTART;TZID=America/New_York:20250921T164500
DTEND;TZID=America/New_York:20250921T180000
DTSTAMP:20260423T125924
CREATED:20250826T205846Z
LAST-MODIFIED:20250827T172826Z
UID:3603-1758473100-1758477600@www.nmpc.net
SUMMARY:Built For More
DESCRIPTION:
URL:https://www.nmpc.net/event/built-for-more/
ATTACH;FMTTYPE=image/jpeg:https://www.nmpc.net/wp-content/uploads/2025/08/built-for-more-1.jpg
END:VEVENT
BEGIN:VEVENT
DTSTART;TZID=America/New_York:20250921T160000
DTEND;TZID=America/New_York:20250921T180000
DTSTAMP:20260423T125924
CREATED:20250818T205413Z
LAST-MODIFIED:20250818T205556Z
UID:3577-1758470400-1758477600@www.nmpc.net
SUMMARY:Wonderfully Made 3rd-8th Grade Girls
DESCRIPTION:Join us for Wonderfully Made\, a time for 3rd- 8th grade girls \n\n\nto come together to remember the truths of who God created them to be. \n\n\nSeptember 21st @ 4 pm-6 pm. \n\n\nRegister on REALM. \n\n\n 
URL:https://www.nmpc.net/event/wonderfully-made/
ATTACH;FMTTYPE=image/jpeg:https://www.nmpc.net/wp-content/uploads/2025/08/Wonderfully-Made-1.jpg
END:VEVENT
BEGIN:VEVENT
DTSTART;TZID=America/New_York:20250918T103000
DTEND;TZID=America/New_York:20250918T120000
DTSTAMP:20260423T125924
CREATED:20250829T152823Z
LAST-MODIFIED:20250829T153758Z
UID:3609-1758191400-1758196800@www.nmpc.net
SUMMARY:The Ittie Bitties Playdate
DESCRIPTION:Welcoming a new baby also welcomes in a new season of life! \nThe Ittie Bitties Playdate is a time for moms to get together to share the joys and challenges of this new season of babyhood. \nNo worries if the playdate is during naptime – either come whenever the baby is up or bring the baby to nap!  The playdate will be held at the home of Megan Cathey so her house is equipped with diapers\, playmats and white noise machines.
URL:https://www.nmpc.net/event/the-ittie-bitties-playdate/
ATTACH;FMTTYPE=image/png:https://www.nmpc.net/wp-content/uploads/2025/08/Ittie-Bitties-Playdate.png
END:VEVENT
BEGIN:VEVENT
DTSTART;TZID=America/New_York:20250913T160000
DTEND;TZID=America/New_York:20250913T210000
DTSTAMP:20260423T125924
CREATED:20250820T203532Z
LAST-MODIFIED:20250826T205602Z
UID:3589-1757779200-1757797200@www.nmpc.net
SUMMARY:NMPC Tailgate @ MERCER
DESCRIPTION:
URL:https://www.nmpc.net/event/mercer-tailgate/
ATTACH;FMTTYPE=image/jpeg:https://www.nmpc.net/wp-content/uploads/2025/08/tailgate.jpg
END:VEVENT
BEGIN:VEVENT
DTSTART;TZID=America/New_York:20250825T100000
DTEND;TZID=America/New_York:20250829T170000
DTSTAMP:20260423T125924
CREATED:20250818T210744Z
LAST-MODIFIED:20250818T211230Z
UID:3579-1756116000-1756486800@www.nmpc.net
SUMMARY:Women's Fall Bible Studies
DESCRIPTION:Begin the week of August 25th
URL:https://www.nmpc.net/event/womens-fall-bible-studies/
ATTACH;FMTTYPE=image/jpeg:https://www.nmpc.net/wp-content/uploads/2025/08/Womens-Bible-Study-Presentation-169-1.jpg
END:VEVENT
BEGIN:VEVENT
DTSTART;TZID=America/New_York:20250825T080000
DTEND;TZID=America/New_York:20250830T170000
DTSTAMP:20260423T125924
CREATED:20250825T164930Z
LAST-MODIFIED:20250825T165022Z
UID:3596-1756108800-1756573200@www.nmpc.net
SUMMARY:Men's Study Groups
DESCRIPTION:Beginning this week!
URL:https://www.nmpc.net/event/mens-study-groups/
ATTACH;FMTTYPE=image/jpeg:https://www.nmpc.net/wp-content/uploads/2025/08/mens-ministry-slides-1.jpg
END:VEVENT
BEGIN:VEVENT
DTSTART;TZID=America/New_York:20250824T170000
DTEND;TZID=America/New_York:20250824T180000
DTSTAMP:20260423T125924
CREATED:20250813T151142Z
LAST-MODIFIED:20250813T151142Z
UID:3567-1756054800-1756058400@www.nmpc.net
SUMMARY:Ensemble Kick-off
DESCRIPTION:
URL:https://www.nmpc.net/event/ensemble-kick-off/
ATTACH;FMTTYPE=image/jpeg:https://www.nmpc.net/wp-content/uploads/2025/08/1.jpg
END:VEVENT
BEGIN:VEVENT
DTSTART;TZID=America/New_York:20250823T083000
DTEND;TZID=America/New_York:20250823T103000
DTSTAMP:20260423T125924
CREATED:20250808T162153Z
LAST-MODIFIED:20250818T144411Z
UID:3544-1755937800-1755945000@www.nmpc.net
SUMMARY:Men's Ministry Kickoff Breakfast
DESCRIPTION:Click here to register
URL:https://www.nmpc.net/event/mens-ministry-kickoff-breakfast/
ATTACH;FMTTYPE=image/jpeg:https://www.nmpc.net/wp-content/uploads/2025/08/mens-ministry-slides.jpg
END:VEVENT
BEGIN:VEVENT
DTSTART;TZID=America/New_York:20250820T173000
DTEND;TZID=America/New_York:20250820T190000
DTSTAMP:20260423T125924
CREATED:20250808T152549Z
LAST-MODIFIED:20250808T152549Z
UID:3541-1755711000-1755716400@www.nmpc.net
SUMMARY:Wednesday Night Activities Resume on Wednesday\, August 20th
DESCRIPTION:
URL:https://www.nmpc.net/event/wednesday-night-activities-resume-on-wednesday-august-20th/
ATTACH;FMTTYPE=image/jpeg:https://www.nmpc.net/wp-content/uploads/2025/08/Wednesday-Nights-resume-this-week.jpg
END:VEVENT
BEGIN:VEVENT
DTSTART;TZID=America/New_York:20250817T120000
DTEND;TZID=America/New_York:20250817T143000
DTSTAMP:20260423T125924
CREATED:20250808T152627Z
LAST-MODIFIED:20250808T164020Z
UID:3543-1755432000-1755441000@www.nmpc.net
SUMMARY:Ladies' Vision Luncheon
DESCRIPTION:
URL:https://www.nmpc.net/event/ladies-vision-luncheon/
ATTACH;FMTTYPE=image/jpeg:https://www.nmpc.net/wp-content/uploads/2025/08/Ladies-Vision-Luncheon-Presentation.jpg
END:VEVENT
BEGIN:VEVENT
DTSTART;TZID=America/New_York:20250810T093000
DTEND;TZID=America/New_York:20250810T103000
DTSTAMP:20260423T125924
CREATED:20250808T152327Z
LAST-MODIFIED:20250808T152327Z
UID:3540-1754818200-1754821800@www.nmpc.net
SUMMARY:Fall Sunday Adult Communities-beginning August 10th
DESCRIPTION:
URL:https://www.nmpc.net/event/fall-sunday-adult-communities-beginning-august-10th/
ATTACH;FMTTYPE=image/jpeg:https://www.nmpc.net/wp-content/uploads/2025/08/Sunday-School.jpg
END:VEVENT
END:VCALENDAR